BEGIN:VCALENDAR
VERSION:2.0
PRODID:-//wp-events-plugin.com//7.1.7//EN
BEGIN:VEVENT
UID:2@eco-act.org
DTSTART;VALUE=DATE:20221216
DTEND;VALUE=DATE:20230103
DTSTAMP:20221129T004157Z
URL:https://eco-act.org/events/eco-action-office-closed/
SUMMARY:ECO-Action Office Closed
DESCRIPTION:Our ECO-Action Staff would like to wish you and your family a v
 ery \nMerry Christmas &amp\; Happy New Year!\nClosed | December 16\, 2022\
 nReturning | January 3\, 2023
END:VEVENT
BEGIN:VEVENT
UID:19@eco-act.org
DTSTART;TZID=America/New_York;VALUE=DATE:20230201
DTEND;TZID=America/New_York;VALUE=DATE:20230202
DTSTAMP:20230329T220657Z
URL:https://eco-act.org/events/awln-youth-open-for-applications-for-progra
 m-coordinator-and-youth-interns/
SUMMARY:AWLN Youth - Open for Applications for Program Coordinator and Yout
 h Interns
DESCRIPTION:
LOCATION:ECO-Action Office\, 250 Georgia Avenue\, S.E.\, Ste. 212\, Atlanta
 \, GA\, 30312\, United States
X-APPLE-STRUCTURED-LOCATION;VALUE=URI;X-ADDRESS=250 Georgia Avenue\, S.E.\,
  Ste. 212\, Atlanta\, GA\, 30312\, United States;X-APPLE-RADIUS=100;X-TITL
 E=ECO-Action Office:geo:0,0
END:VEVENT
BEGIN:VEVENT
UID:34@eco-act.org
DTSTART;TZID=America/New_York:20230207T180000
DTEND;TZID=America/New_York:20230207T193000
DTSTAMP:20230830T182153Z
URL:https://eco-act.org/events/cohort-2-session-9/
SUMMARY:Cohort 2: Session 10
DESCRIPTION:
LOCATION:West End Library\, 525 Peeples St SW\, Atlanta\, GA\, 30310\, Unit
 ed States
X-APPLE-STRUCTURED-LOCATION;VALUE=URI;X-ADDRESS=525 Peeples St SW\, Atlanta
 \, GA\, 30310\, United States;X-APPLE-RADIUS=100;X-TITLE=West End Library:
 geo:0,0
END:VEVENT
BEGIN:VEVENT
UID:4@eco-act.org
DTSTART;VALUE=DATE:20230301
DTEND;VALUE=DATE:20230401
DTSTAMP:20230329T212952Z
URL:https://eco-act.org/events/awln-youth-program-coordinator-interviews/
SUMMARY:AWLN Youth - Program Coordinator Interviews
DESCRIPTION:
LOCATION:ECO-Action Office\, 250 Georgia Avenue\, S.E.\, Ste. 212\, Atlanta
 \, GA\, 30312\, United States
X-APPLE-STRUCTURED-LOCATION;VALUE=URI;X-ADDRESS=250 Georgia Avenue\, S.E.\,
  Ste. 212\, Atlanta\, GA\, 30312\, United States;X-APPLE-RADIUS=100;X-TITL
 E=ECO-Action Office:geo:0,0
END:VEVENT
BEGIN:VEVENT
UID:5@eco-act.org
DTSTART;VALUE=DATE:20230522
DTEND;VALUE=DATE:20230527
DTSTAMP:20230329T214124Z
URL:https://eco-act.org/events/awln-youth-program-coordinator-report-to-of
 fice/
SUMMARY:AWLN Youth - Program Coordinators Training Week
DESCRIPTION:
LOCATION:ECO-Action Office\, 250 Georgia Avenue\, S.E.\, Ste. 212\, Atlanta
 \, GA\, 30312\, United States
X-APPLE-STRUCTURED-LOCATION;VALUE=URI;X-ADDRESS=250 Georgia Avenue\, S.E.\,
  Ste. 212\, Atlanta\, GA\, 30312\, United States;X-APPLE-RADIUS=100;X-TITL
 E=ECO-Action Office:geo:0,0
END:VEVENT
BEGIN:VEVENT
UID:6@eco-act.org
DTSTART;VALUE=DATE:20230522
DTEND;VALUE=DATE:20230523
DTSTAMP:20230329T215159Z
URL:https://eco-act.org/events/awln-youth-program-coordinators-report-to-t
 he-office/
SUMMARY:AWLN Youth - Program Coordinators Report to the Office
DESCRIPTION:
LOCATION:ECO-Action Office\, 250 Georgia Avenue\, S.E.\, Ste. 212\, Atlanta
 \, GA\, 30312\, United States
X-APPLE-STRUCTURED-LOCATION;VALUE=URI;X-ADDRESS=250 Georgia Avenue\, S.E.\,
  Ste. 212\, Atlanta\, GA\, 30312\, United States;X-APPLE-RADIUS=100;X-TITL
 E=ECO-Action Office:geo:0,0
END:VEVENT
BEGIN:VEVENT
UID:7@eco-act.org
DTSTART;VALUE=DATE:20230602
DTEND;VALUE=DATE:20230603
DTSTAMP:20230329T214407Z
URL:https://eco-act.org/events/awln-youth-program-coordinators-training-an
 d-preparation-ends/
SUMMARY:AWLN Youth - Program Coordinators Training and Preparation Ends
DESCRIPTION:
LOCATION:ECO-Action Office\, 250 Georgia Avenue\, S.E.\, Ste. 212\, Atlanta
 \, GA\, 30312\, United States
X-APPLE-STRUCTURED-LOCATION;VALUE=URI;X-ADDRESS=250 Georgia Avenue\, S.E.\,
  Ste. 212\, Atlanta\, GA\, 30312\, United States;X-APPLE-RADIUS=100;X-TITL
 E=ECO-Action Office:geo:0,0
END:VEVENT
BEGIN:VEVENT
UID:8@eco-act.org
DTSTART;VALUE=DATE:20230605
DTEND;VALUE=DATE:20230610
DTSTAMP:20230329T214456Z
URL:https://eco-act.org/events/awln-youth-youth-interns-training-week/
SUMMARY:AWLN Youth - Youth Interns Training Week
DESCRIPTION:
LOCATION:ECO-Action Office\, 250 Georgia Avenue\, S.E.\, Ste. 212\, Atlanta
 \, GA\, 30312\, United States
X-APPLE-STRUCTURED-LOCATION;VALUE=URI;X-ADDRESS=250 Georgia Avenue\, S.E.\,
  Ste. 212\, Atlanta\, GA\, 30312\, United States;X-APPLE-RADIUS=100;X-TITL
 E=ECO-Action Office:geo:0,0
END:VEVENT
BEGIN:VEVENT
UID:9@eco-act.org
DTSTART;VALUE=DATE:20230612
DTEND;VALUE=DATE:20230715
DTSTAMP:20230329T214553Z
URL:https://eco-act.org/events/awln-youth-youth-interns-at-work/
SUMMARY:AWLN Youth - Youth Interns at Work
DESCRIPTION:
END:VEVENT
BEGIN:VEVENT
UID:13@eco-act.org
DTSTART;VALUE=DATE:20230616
DTEND;VALUE=DATE:20230617
DTSTAMP:20230329T215850Z
URL:https://eco-act.org/events/awln-youth-youth-intern-in-office-friday-tr
 aining/
SUMMARY:AWLN Youth - Youth Intern In Office Friday Training
DESCRIPTION:
END:VEVENT
BEGIN:VEVENT
UID:14@eco-act.org
DTSTART;VALUE=DATE:20230623
DTEND;VALUE=DATE:20230624
DTSTAMP:20230329T215911Z
URL:https://eco-act.org/events/awln-youth-youth-intern-in-office-friday-tr
 aining-2/
SUMMARY:AWLN Youth - Youth Intern In Office Friday Training
DESCRIPTION:
END:VEVENT
BEGIN:VEVENT
UID:17@eco-act.org
DTSTART;VALUE=DATE:20230630
DTEND;VALUE=DATE:20230701
DTSTAMP:20230329T220132Z
URL:https://eco-act.org/events/awln-youth-youth-intern-in-office-friday-tr
 aining-5/
SUMMARY:AWLN Youth - Youth Intern In Office Friday Training
DESCRIPTION:
END:VEVENT
BEGIN:VEVENT
UID:15@eco-act.org
DTSTART;VALUE=DATE:20230707
DTEND;VALUE=DATE:20230708
DTSTAMP:20230329T215956Z
URL:https://eco-act.org/events/awln-youth-youth-intern-in-office-friday-tr
 aining-3/
SUMMARY:AWLN Youth - Youth Intern In Office Friday Training
DESCRIPTION:
END:VEVENT
BEGIN:VEVENT
UID:10@eco-act.org
DTSTART;VALUE=DATE:20230708
DTEND;VALUE=DATE:20230709
DTSTAMP:20230329T214644Z
URL:https://eco-act.org/events/awln-youth-youth-clean-up-day/
SUMMARY:AWLN Youth - Youth Clean-Up Day
DESCRIPTION:
END:VEVENT
BEGIN:VEVENT
UID:16@eco-act.org
DTSTART;VALUE=DATE:20230714
DTEND;VALUE=DATE:20230715
DTSTAMP:20230329T220036Z
URL:https://eco-act.org/events/awln-youth-youth-intern-in-office-friday-tr
 aining-4/
SUMMARY:AWLN Youth - Youth Intern In Office Friday Training
DESCRIPTION:
END:VEVENT
BEGIN:VEVENT
UID:11@eco-act.org
DTSTART;VALUE=DATE:20230715
DTEND;VALUE=DATE:20230716
DTSTAMP:20230329T214753Z
URL:https://eco-act.org/events/awln-youth-sneaker-ball-graduation-celebrat
 ion/
SUMMARY:AWLN Youth - Sneaker Ball Graduation Celebration
DESCRIPTION:
END:VEVENT
BEGIN:VEVENT
UID:12@eco-act.org
DTSTART;VALUE=DATE:20230721
DTEND;VALUE=DATE:20230722
DTSTAMP:20230329T214848Z
URL:https://eco-act.org/events/awln-youth-program-coordinators-last-day/
SUMMARY:AWLN Youth - Program Coordinators Last Day
DESCRIPTION:
END:VEVENT
BEGIN:VEVENT
UID:29@eco-act.org
DTSTART;TZID=America/New_York:20230905T180000
DTEND;TZID=America/New_York:20230905T193000
DTSTAMP:20230830T184946Z
URL:https://eco-act.org/events/cohort-2-session-5/
SUMMARY:Cohort 2: Session 5
DESCRIPTION:
LOCATION:West End Library\, 525 Peeples St SW\, Atlanta\, GA\, 30310\, Unit
 ed States
X-APPLE-STRUCTURED-LOCATION;VALUE=URI;X-ADDRESS=525 Peeples St SW\, Atlanta
 \, GA\, 30310\, United States;X-APPLE-RADIUS=100;X-TITLE=West End Library:
 geo:0,0
END:VEVENT
BEGIN:VEVENT
UID:51@eco-act.org
DTSTART:20231118T120000Z
DTEND:20231118T160000Z
DTSTAMP:20231027T173809Z
URL:https://eco-act.org/events/green-and-grown-fall-fundraiser/
SUMMARY:Green and Grown Fall Fundraiser
DESCRIPTION:As the weather turns cool\, it’s time once again for Environm
 ental Community Action’s (ECO-Action) annual fall fundraiser. This year
 ’s “Green and Grown” event will be held on Saturday\, November 18\
 , 2023 at the Oyun Botanical Gardens\, 3353 Washington Road\, East Point\,
  GA 30344. Onsite and nearby parking is limited. The use of Lyft or Uber i
 s strongly encouraged.\n\nDoors will open at 5:30 pm\; with food and enter
 tainment provided throughout the evening. We will have a seated dinner wit
 h buffet options served at 7:15 pm preceded by hors d'oeuvre at 6:30 pm. T
 he dress code will be dressy casual.\n\nPlease RSVP by November 12th.\n\nD
 onations will elevate ECO-Action’s work across the state and will be acc
 epted both in advance and at the door.\n\nAs in previous years\, the event
  will recognize individuals who have helped ECO-Action achieve its many su
 ccesses during the past year. This year we will be honoring several commun
 ity leaders who\, as longstanding partners\, have worked with us to advanc
 e environmental justice both in the city of Atlanta and across the state o
 f Georgia.\n\nWe hope that you can join us on November 18th!\n\nInterested
  in being a sponsor of next year's event? Please contact Carla Lewis at 40
 4 584-6499.
ATTACH;FMTTYPE=image/jpeg:https://eco-act.org/wp-content/uploads/2023/10/G
 reen-and-Grown-Flyer-with-QR-Code-1-1.png
LOCATION:Oyun Ministries and Marketplace\, 3353 Washington Road\, East Poin
 t\, GA\, 30344\, United States
X-APPLE-STRUCTURED-LOCATION;VALUE=URI;X-ADDRESS=3353 Washington Road\, East
  Point\, GA\, 30344\, United States;X-APPLE-RADIUS=100;X-TITLE=Oyun Minist
 ries and Marketplace:geo:0,0
END:VEVENT
BEGIN:VTIMEZONE
TZID:America/New_York
X-LIC-LOCATION:America/New_York
BEGIN:STANDARD
DTSTART:20221106T010000
TZOFFSETFROM:-0400
TZOFFSETTO:-0500
TZNAME:EST
END:STANDARD
BEGIN:DAYLIGHT
DTSTART:20230312T030000
TZOFFSETFROM:-0500
TZOFFSETTO:-0400
TZNAME:EDT
END:DAYLIGHT
END:VTIMEZONE
END:VCALENDAR